BEGIN:VCALENDAR
VERSION:2.0
PRODID:-//Eastern Medicine Institute - ECPv6.15.20//NONSGML v1.0//EN
CALSCALE:GREGORIAN
METHOD:PUBLISH
X-WR-CALNAME:Eastern Medicine Institute
X-ORIGINAL-URL:https://easternmedicineinstitute.com
X-WR-CALDESC:Events for Eastern Medicine Institute
REFRESH-INTERVAL;VALUE=DURATION:PT1H
X-Robots-Tag:noindex
X-PUBLISHED-TTL:PT1H
BEGIN:VTIMEZONE
TZID:America/Chicago
BEGIN:DAYLIGHT
TZOFFSETFROM:-0600
TZOFFSETTO:-0500
TZNAME:CDT
DTSTART:20250309T080000
END:DAYLIGHT
BEGIN:STANDARD
TZOFFSETFROM:-0500
TZOFFSETTO:-0600
TZNAME:CST
DTSTART:20251102T070000
END:STANDARD
BEGIN:DAYLIGHT
TZOFFSETFROM:-0600
TZOFFSETTO:-0500
TZNAME:CDT
DTSTART:20260308T080000
END:DAYLIGHT
BEGIN:STANDARD
TZOFFSETFROM:-0500
TZOFFSETTO:-0600
TZNAME:CST
DTSTART:20261101T070000
END:STANDARD
BEGIN:DAYLIGHT
TZOFFSETFROM:-0600
TZOFFSETTO:-0500
TZNAME:CDT
DTSTART:20270314T080000
END:DAYLIGHT
BEGIN:STANDARD
TZOFFSETFROM:-0500
TZOFFSETTO:-0600
TZNAME:CST
DTSTART:20271107T070000
END:STANDARD
END:VTIMEZONE
BEGIN:VEVENT
DTSTART;TZID=America/Chicago:20260808T080000
DTEND;TZID=America/Chicago:20260809T180000
DTSTAMP:20260419T154043
CREATED:20260213T032028Z
LAST-MODIFIED:20260331T213843Z
UID:22425-1786176000-1786298400@easternmedicineinstitute.com
SUMMARY:Module II - 2nd Hundred Hour Acupuncture Program
DESCRIPTION:Module II –  Lung / Large Intestine Systems\nRespiratory Pathophysiology\, Patterns & Treatment\nAugust 8 & 9\, 2026 \nModule Overview \nModule II provides an in-depth clinical study of the Zang Fu organ system with focused application to respiratory and systemic disorders. This module advances participants from theoretical organ knowledge to organ-based pattern differentiation\, channel integration\, and treatment design of the Lung & Large Intestine Zang Fu organs. \nZang–Fu Organ System \nComprehensive analysis of the functional\, energetic\, and pathological roles of Zang Fu organ system \nZang (Solid) Organs:\nLung\, Spleen\, Kidney\, Liver\, Heart\, (Pericardium) \nFu (Hollow) Organs:\nLarge Intestine\, Stomach\, Bladder\, Gallbladder\, Small Intestine\, San Jiao \nEmphasis is placed on inter-organ relationships and functional dynamics. \nLung (Zang) – Advanced Study \n\nGoverning Qi and respiration\nRegulation of Wei Qi and defensive function\nFluid metabolism and skin relationship\nPathomechanism in respiratory disorders\n\nLarge Intestine (Fu) – Advanced Study \n\nTransport and elimination functions\nInterior–exterior relationship with the Lung\nHeat\, dryness\, and fluid pathology patterns\n\nChannel & Organ Integration \n\nLung channel relationships with Heart\, Liver\, Kidney\, and Spleen\nInterior/exterior dynamics (Lung–Large Intestine pairing\, etc)\nChannel involvement in respiratory and systemic presentations\n\nClinical Application \nRespiratory & Systemic Pattern Differentiation \n\nCommon cold\, cough\, wheezing\, asthma\nWind invasion patterns\nPhlegm accumulation\nLung Qi deficiency\nYin deficiency and dryness syndromes\n\nStructured analysis includes:\nEtiology • Pathology • CM Diagnosis • Pattern Differentiation • Treatment Strategy \nTreatment prescription for all of the above conditions. \nAuricular Integration \nChinese Herbal Integration \nChinese Medicine Consultation / 10 Questions \nTreatment of participating attendees utilizing Chinese Medicine protocols. \nLicense renewal credit by the Parker University (Chiropractic College) \nCE Credits are paid additionally\, please see below.\nPACE STATES: AK / KS / MA / ME / MN / MO / NH / NJ / NY / NC/ ND / SC / SD / Nova Scotia / Puerto Rico\nADDITIONAL STATES: CO / CT / DC / DE / IA / ID / IL / IN / LA / MD / MT / NE / OH / OR / RI / TX – Pending / UT / VA / WA / WY\nA Manual will be provided to all attendees.  All seminar supplies are provided.  Needles are available for purchase at the end of the seminar. If you have special product requests please visit the Store Tab at the top of the Home Page of this website.
URL:https://easternmedicineinstitute.com/event/module-ii-2nd-hundred-hour-acupuncture-program/
LOCATION:To Be Announced
CATEGORIES:Acupunture,Parker University
END:VEVENT
END:VCALENDAR