BEGIN:VCALENDAR
VERSION:2.0
PRODID:-//Eastern Medicine Institute - ECPv6.15.20//NONSGML v1.0//EN
CALSCALE:GREGORIAN
METHOD:PUBLISH
X-ORIGINAL-URL:https://easternmedicineinstitute.com
X-WR-CALDESC:Events for Eastern Medicine Institute
REFRESH-INTERVAL;VALUE=DURATION:PT1H
X-Robots-Tag:noindex
X-PUBLISHED-TTL:PT1H
BEGIN:VTIMEZONE
TZID:America/Chicago
BEGIN:DAYLIGHT
TZOFFSETFROM:-0600
TZOFFSETTO:-0500
TZNAME:CDT
DTSTART:20250309T080000
END:DAYLIGHT
BEGIN:STANDARD
TZOFFSETFROM:-0500
TZOFFSETTO:-0600
TZNAME:CST
DTSTART:20251102T070000
END:STANDARD
BEGIN:DAYLIGHT
TZOFFSETFROM:-0600
TZOFFSETTO:-0500
TZNAME:CDT
DTSTART:20260308T080000
END:DAYLIGHT
BEGIN:STANDARD
TZOFFSETFROM:-0500
TZOFFSETTO:-0600
TZNAME:CST
DTSTART:20261101T070000
END:STANDARD
BEGIN:DAYLIGHT
TZOFFSETFROM:-0600
TZOFFSETTO:-0500
TZNAME:CDT
DTSTART:20270314T080000
END:DAYLIGHT
BEGIN:STANDARD
TZOFFSETFROM:-0500
TZOFFSETTO:-0600
TZNAME:CST
DTSTART:20271107T070000
END:STANDARD
END:VTIMEZONE
BEGIN:VEVENT
DTSTART;TZID=America/Chicago:20260718T080000
DTEND;TZID=America/Chicago:20260719T180000
DTSTAMP:20260419T103011
CREATED:20260213T024801Z
LAST-MODIFIED:20260331T213557Z
UID:22420-1784361600-1784484000@easternmedicineinstitute.com
SUMMARY:Module I - 2nd Hundred Hour Acupuncture Program
DESCRIPTION:Module I Summary – 200-Hour Acupuncture Certification Program\nJuly 18 & 19\, 2026 \nThe initial 100-hour program established foundational clinical competency in acupuncture. Core components included: \nThe second phase advances the attendee into deeper Traditional Chinese Medicine (TCM) theory\, refined diagnostic skills\, and sophisticated treatment design. Emphasis shifts toward clinical reasoning\, pattern differentiation\, and strategic point combinations. \nRefined CM Pathophysiology \n\nAdvanced interaction of Qi\, Blood\, Body Fluids\, Jing\, and Shen in complex and chronic presentations\nClinical application of the Eight Principles in mixed and layered patterns\nAdvanced understanding of the Six External Pathogens and internal transformation mechanisms\nOrgan-specific pathology related to the Seven Emotions\nMultifactorial etiology: diet\, trauma\, lifestyle\, and environmental influences\n\nChannel Theory & Meridian Dynamics \n\nFunctional and anatomical relationships of the primary channels\nInterior–exterior channel pairing\nChannel pathway relevance in musculoskeletal and internal disorders\nChannel-based differential diagnosis\n\nSix Stages & Four Levels \n\nClassical models of disease progression\nTai Yang through Jue Yin analysis\nWei\, Qi\, Ying\, and Blood level differentiation\nAcute-to-chronic transition mechanisms\nClinical application in pattern identification and treatment planning\n\nAdvanced Diagnostic Development \nTongue Diagnosis \n\nBody color\, shape\, moisture\, and coating analysis\nOrgan and pathogen correlations\nIndicators of excess\, deficiency\, heat\, cold\, and fluid pathology\n\nPulse Diagnosis \n\nDepth\, rate\, strength\, and quality differentiation\nOrgan system correlations\nMixed and complex pulse interpretation\n\nSeminar is co-sponsored by Parker University\, applicable for the Acupuncture Diplomat. \nTake 1 seminar or all 6 seminars for a discounted price.  Please see pricing below. \nLicense renewal credit by the Parker University (Chiropractic College)\nCE Credits are paid additionally\, please see below.\nPACE STATES: AK / KS / MA / ME / MN / MO / NH / NJ / NY / NC/ ND / SC / SD / Nova Scotia / Puerto Rico\nADDITIONAL STATES: CO / CT / DC / DE / IA / ID / IL / IN / LA / MD / MT / NE / OH / OR / RI / TX – Pending / UT / VA / WA / WY\nA Manual will be provided to all attendees.  All seminar supplies are provided.  Needles are available for purchase at the end of the seminar. If you have special product requests please visit the Store Tab at the top of the Home Page of this website.
URL:https://easternmedicineinstitute.com/event/module-i-2nd-hundred-hour-acupuncture-program/
LOCATION:To Be Announced
CATEGORIES:Acupunture
END:VEVENT
END:VCALENDAR